BEGIN:VCALENDAR
VERSION:2.0
PRODID:-//USA Working Equitation - ECPv6.15.20//NONSGML v1.0//EN
CALSCALE:GREGORIAN
METHOD:PUBLISH
X-ORIGINAL-URL:https://usawe.org
X-WR-CALDESC:Events for USA Working Equitation
REFRESH-INTERVAL;VALUE=DURATION:PT1H
X-Robots-Tag:noindex
X-PUBLISHED-TTL:PT1H
BEGIN:VTIMEZONE
TZID:America/Los_Angeles
BEGIN:DAYLIGHT
TZOFFSETFROM:-0800
TZOFFSETTO:-0700
TZNAME:PDT
DTSTART:20250309T100000
END:DAYLIGHT
BEGIN:STANDARD
TZOFFSETFROM:-0700
TZOFFSETTO:-0800
TZNAME:PST
DTSTART:20251102T090000
END:STANDARD
BEGIN:DAYLIGHT
TZOFFSETFROM:-0800
TZOFFSETTO:-0700
TZNAME:PDT
DTSTART:20260308T100000
END:DAYLIGHT
BEGIN:STANDARD
TZOFFSETFROM:-0700
TZOFFSETTO:-0800
TZNAME:PST
DTSTART:20261101T090000
END:STANDARD
BEGIN:DAYLIGHT
TZOFFSETFROM:-0800
TZOFFSETTO:-0700
TZNAME:PDT
DTSTART:20270314T100000
END:DAYLIGHT
BEGIN:STANDARD
TZOFFSETFROM:-0700
TZOFFSETTO:-0800
TZNAME:PST
DTSTART:20271107T090000
END:STANDARD
END:VTIMEZONE
BEGIN:VEVENT
DTSTART;VALUE=DATE:20260606
DTEND;VALUE=DATE:20260607
DTSTAMP:20260424T103206
CREATED:20260216T045926Z
LAST-MODIFIED:20260216T045926Z
UID:10001391-1780704000-1780790399@usawe.org
SUMMARY:ID: Idaho Cup Schooling Show #1
DESCRIPTION:Judge: Howard Peet
URL:https://usawe.org/event/id-idaho-cup-schooling-show-1/
LOCATION:Twin Falls County Fairgrounds\, Twin Falls\, ID\, United States
CATEGORIES:All Schooling Shows,Region 1
ORGANIZER;CN="Rachel Stout":MAILTO:Weteamidao@gmail.com
END:VEVENT
BEGIN:VEVENT
DTSTART;VALUE=DATE:20260606
DTEND;VALUE=DATE:20260608
DTSTAMP:20260424T103206
CREATED:20251218T200533Z
LAST-MODIFIED:20260317T040959Z
UID:10001348-1780704000-1780876799@usawe.org
SUMMARY:ID: (26-074) (26-075) (26-122) (26-123) Idaho Cup Show #1\, #2\, #3\, #4
DESCRIPTION:Judge: Erica Peet\, “R”\, Illinois\nTD: Dawn Swenson / Jill Mahdessian \nShow Managers: Rachel Stout and Jessica Summers
URL:https://usawe.org/event/id-26-074-26-075-idaho-cup-show-1-2/
LOCATION:Twin Falls County Fairgrounds\, Twin Falls\, ID\, United States
CATEGORIES:Competitions (all),Region 1
ORGANIZER;CN="Rachel Stout":MAILTO:Weteamidao@gmail.com
END:VEVENT
BEGIN:VEVENT
DTSTART;VALUE=DATE:20260607
DTEND;VALUE=DATE:20260608
DTSTAMP:20260424T103206
CREATED:20260216T050031Z
LAST-MODIFIED:20260216T050031Z
UID:10001392-1780790400-1780876799@usawe.org
SUMMARY:ID: Idaho Cup Schooling Show #2
DESCRIPTION:Judge: Howard Peet \nContact Rachel Stout for more info.
URL:https://usawe.org/event/id-idaho-cup-schooling-show-2/
LOCATION:Twin Falls County Fairgrounds\, Twin Falls\, ID\, United States
CATEGORIES:All Schooling Shows,Region 1
ORGANIZER;CN="Rachel Stout":MAILTO:Weteamidao@gmail.com
END:VEVENT
END:VCALENDAR