BEGIN:VCALENDAR
VERSION:2.0
PRODID:-//USA Working Equitation - ECPv6.15.20//NONSGML v1.0//EN
CALSCALE:GREGORIAN
METHOD:PUBLISH
X-WR-CALNAME:USA Working Equitation
X-ORIGINAL-URL:https://usawe.org
X-WR-CALDESC:Events for USA Working Equitation
REFRESH-INTERVAL;VALUE=DURATION:PT1H
X-Robots-Tag:noindex
X-PUBLISHED-TTL:PT1H
BEGIN:VTIMEZONE
TZID:America/Los_Angeles
BEGIN:DAYLIGHT
TZOFFSETFROM:-0800
TZOFFSETTO:-0700
TZNAME:PDT
DTSTART:20250309T100000
END:DAYLIGHT
BEGIN:STANDARD
TZOFFSETFROM:-0700
TZOFFSETTO:-0800
TZNAME:PST
DTSTART:20251102T090000
END:STANDARD
BEGIN:DAYLIGHT
TZOFFSETFROM:-0800
TZOFFSETTO:-0700
TZNAME:PDT
DTSTART:20260308T100000
END:DAYLIGHT
BEGIN:STANDARD
TZOFFSETFROM:-0700
TZOFFSETTO:-0800
TZNAME:PST
DTSTART:20261101T090000
END:STANDARD
BEGIN:DAYLIGHT
TZOFFSETFROM:-0800
TZOFFSETTO:-0700
TZNAME:PDT
DTSTART:20270314T100000
END:DAYLIGHT
BEGIN:STANDARD
TZOFFSETFROM:-0700
TZOFFSETTO:-0800
TZNAME:PST
DTSTART:20271107T090000
END:STANDARD
END:VTIMEZONE
BEGIN:VEVENT
DTSTART;VALUE=DATE:20260523
DTEND;VALUE=DATE:20260525
DTSTAMP:20260424T065254
CREATED:20251218T195600Z
LAST-MODIFIED:20251218T195600Z
UID:10001344-1779494400-1779667199@usawe.org
SUMMARY:TN: (26-050) Three Bulls Classic
DESCRIPTION:Judge: Rebecca Algar\, S\nTD: Deb Quillinan\nShow Manager: Maria Blackstone
URL:https://usawe.org/event/tn-26-050-three-bulls-classic/
LOCATION:Three Bulls LLC\, 625 Beech Grove Rd.\, Bulls Gap\, TN\, 37711\, United States
CATEGORIES:Competitions (all),Region 7
ORGANIZER;CN="Maria Blackstone":MAILTO:mblackstone@renaissancefarmtn.com
END:VEVENT
BEGIN:VEVENT
DTSTART;VALUE=DATE:20261002
DTEND;VALUE=DATE:20261005
DTSTAMP:20260424T065254
CREATED:20260216T051618Z
LAST-MODIFIED:20260317T041725Z
UID:10001397-1790899200-1791158399@usawe.org
SUMMARY:TN: (26-129) USAWE Region 7 Championship and Working Equitation at Three Bulls
DESCRIPTION:License#(s): 26-129 and 26-130 \nShow Name(s): USAWE Region 7 Championship and Working Equitation at Three Bulls \nShow Date(s): 10/2/2026 – 10/4/2026 \nLocation: Three Bulls Farm\, Bulls Gap\, TN \nJudge: Polly Limond “S”\, Doreen Atkinson “S” \nTD: Kris Stanko \nGate Steward: Morgan Osbaldeston \nShow Manager:  Maria Blackstone
URL:https://usawe.org/event/tn-usawe-region-7-championship-and-working-equitation-at-three-bulls/
LOCATION:Three Bulls LLC\, 625 Beech Grove Rd.\, Bulls Gap\, TN\, 37711\, United States
CATEGORIES:Competitions (all),Region 7
ORGANIZER;CN="Maria Blackstone":MAILTO:mblackstone@renaissancefarmtn.com
END:VEVENT
END:VCALENDAR