BEGIN:VCALENDAR
VERSION:2.0
PRODID:-//USA Working Equitation - ECPv6.15.20//NONSGML v1.0//EN
CALSCALE:GREGORIAN
METHOD:PUBLISH
X-WR-CALNAME:USA Working Equitation
X-ORIGINAL-URL:https://usawe.org
X-WR-CALDESC:Events for USA Working Equitation
REFRESH-INTERVAL;VALUE=DURATION:PT1H
X-Robots-Tag:noindex
X-PUBLISHED-TTL:PT1H
BEGIN:VTIMEZONE
TZID:America/Los_Angeles
BEGIN:DAYLIGHT
TZOFFSETFROM:-0800
TZOFFSETTO:-0700
TZNAME:PDT
DTSTART:20250309T100000
END:DAYLIGHT
BEGIN:STANDARD
TZOFFSETFROM:-0700
TZOFFSETTO:-0800
TZNAME:PST
DTSTART:20251102T090000
END:STANDARD
BEGIN:DAYLIGHT
TZOFFSETFROM:-0800
TZOFFSETTO:-0700
TZNAME:PDT
DTSTART:20260308T100000
END:DAYLIGHT
BEGIN:STANDARD
TZOFFSETFROM:-0700
TZOFFSETTO:-0800
TZNAME:PST
DTSTART:20261101T090000
END:STANDARD
BEGIN:DAYLIGHT
TZOFFSETFROM:-0800
TZOFFSETTO:-0700
TZNAME:PDT
DTSTART:20270314T100000
END:DAYLIGHT
BEGIN:STANDARD
TZOFFSETFROM:-0700
TZOFFSETTO:-0800
TZNAME:PST
DTSTART:20271107T090000
END:STANDARD
END:VTIMEZONE
BEGIN:VEVENT
DTSTART;VALUE=DATE:20260613
DTEND;VALUE=DATE:20260615
DTSTAMP:20260423T142805
CREATED:20251218T200804Z
LAST-MODIFIED:20251218T200804Z
UID:10001349-1781308800-1781481599@usawe.org
SUMMARY:CA: (26-066) (26-067) BAWE Ring of Fire #2\, #3
DESCRIPTION:Judge: Cari Schwartz\, R\, Oregon\nTD: Marry Duffy \nShow Managers: Ali Kermeen and Robin Murphy
URL:https://usawe.org/event/ca-26-066-26-067-bawe-ring-of-fire-2-3/
LOCATION:Santa Cruz Horseman’s Association\, 1251 Graham Hill Rd\, Santa Cruz\, CA\, 95060\, United States
CATEGORIES:Competitions (all),Region 2
ORGANIZER;CN="Ali Kermeen":MAILTO:alikermeen@gmail.com
END:VEVENT
END:VCALENDAR