BEGIN:VCALENDAR
VERSION:2.0
PRODID:-//USA Working Equitation - ECPv6.15.20//NONSGML v1.0//EN
CALSCALE:GREGORIAN
METHOD:PUBLISH
X-ORIGINAL-URL:https://usawe.org
X-WR-CALDESC:Events for USA Working Equitation
REFRESH-INTERVAL;VALUE=DURATION:PT1H
X-Robots-Tag:noindex
X-PUBLISHED-TTL:PT1H
BEGIN:VTIMEZONE
TZID:America/Los_Angeles
BEGIN:DAYLIGHT
TZOFFSETFROM:-0800
TZOFFSETTO:-0700
TZNAME:PDT
DTSTART:20240310T100000
END:DAYLIGHT
BEGIN:STANDARD
TZOFFSETFROM:-0700
TZOFFSETTO:-0800
TZNAME:PST
DTSTART:20241103T090000
END:STANDARD
BEGIN:DAYLIGHT
TZOFFSETFROM:-0800
TZOFFSETTO:-0700
TZNAME:PDT
DTSTART:20250309T100000
END:DAYLIGHT
BEGIN:STANDARD
TZOFFSETFROM:-0700
TZOFFSETTO:-0800
TZNAME:PST
DTSTART:20251102T090000
END:STANDARD
BEGIN:DAYLIGHT
TZOFFSETFROM:-0800
TZOFFSETTO:-0700
TZNAME:PDT
DTSTART:20260308T100000
END:DAYLIGHT
BEGIN:STANDARD
TZOFFSETFROM:-0700
TZOFFSETTO:-0800
TZNAME:PST
DTSTART:20261101T090000
END:STANDARD
END:VTIMEZONE
BEGIN:VEVENT
DTSTART;VALUE=DATE:20250822
DTEND;VALUE=DATE:20250825
DTSTAMP:20260423T125539
CREATED:20250625T032722Z
LAST-MODIFIED:20250625T032722Z
UID:10001320-1755820800-1756079999@usawe.org
SUMMARY:SD: Working Equitation Clinic and Wykotana Schooling Show #3
DESCRIPTION:Trisha Reed Clinic on August 22nd with group and private lessons. Followed by two-day schooling show on August 23rd and 24th. Show will be levels 1-4.  \nhttps://drive.google.com/open?id=1GbRBgDmz8_LTALzfGDqoWPekgm9iJQRyW3y58UjqFII \nRegion #3 and Event at Buffalo Berry Arena 12315 Buffalo Berry Rd Sturgis\, SD 57785
URL:https://usawe.org/event/sd-working-equitation-clinic-and-wykotana-schooling-show-3/
LOCATION:Buffalo Berry Arena\, 12315 Buffalo Berry Rd\, Sturgis\, SD\, 57785\, United States
CATEGORIES:All Clinics,All Schooling Shows,Region 3
ORGANIZER;CN="Michelle Marshall":MAILTO:rmmarshall26@gmail.com
END:VEVENT
END:VCALENDAR