BEGIN:VCALENDAR
VERSION:2.0
PRODID:-//USA Working Equitation - ECPv6.15.20//NONSGML v1.0//EN
CALSCALE:GREGORIAN
METHOD:PUBLISH
X-ORIGINAL-URL:https://usawe.org
X-WR-CALDESC:Events for USA Working Equitation
REFRESH-INTERVAL;VALUE=DURATION:PT1H
X-Robots-Tag:noindex
X-PUBLISHED-TTL:PT1H
BEGIN:VTIMEZONE
TZID:America/Los_Angeles
BEGIN:DAYLIGHT
TZOFFSETFROM:-0800
TZOFFSETTO:-0700
TZNAME:PDT
DTSTART:20200308T100000
END:DAYLIGHT
BEGIN:STANDARD
TZOFFSETFROM:-0700
TZOFFSETTO:-0800
TZNAME:PST
DTSTART:20201101T090000
END:STANDARD
BEGIN:DAYLIGHT
TZOFFSETFROM:-0800
TZOFFSETTO:-0700
TZNAME:PDT
DTSTART:20210314T100000
END:DAYLIGHT
BEGIN:STANDARD
TZOFFSETFROM:-0700
TZOFFSETTO:-0800
TZNAME:PST
DTSTART:20211107T090000
END:STANDARD
BEGIN:DAYLIGHT
TZOFFSETFROM:-0800
TZOFFSETTO:-0700
TZNAME:PDT
DTSTART:20220313T100000
END:DAYLIGHT
BEGIN:STANDARD
TZOFFSETFROM:-0700
TZOFFSETTO:-0800
TZNAME:PST
DTSTART:20221106T090000
END:STANDARD
BEGIN:DAYLIGHT
TZOFFSETFROM:-0800
TZOFFSETTO:-0700
TZNAME:PDT
DTSTART:20230312T100000
END:DAYLIGHT
BEGIN:STANDARD
TZOFFSETFROM:-0700
TZOFFSETTO:-0800
TZNAME:PST
DTSTART:20231105T090000
END:STANDARD
END:VTIMEZONE
BEGIN:VEVENT
DTSTART;VALUE=DATE:20221009
DTEND;VALUE=DATE:20221010
DTSTAMP:20260424T104137
CREATED:20211214T180802Z
LAST-MODIFIED:20211214T180802Z
UID:10000225-1665273600-1665359999@usawe.org
SUMMARY:OH: Brecksville Buckle #6
DESCRIPTION:License #22-044
URL:https://usawe.org/event/oh-brecksville-buckle-6/
LOCATION:Brecksville Stables\, 11921 Parkview Dr\, Brecksville\, OH\, 44141\, United States
CATEGORIES:Competitions (all),Region 5
ORGANIZER;CN="Stephani A Kame":MAILTO:slkstudio@yahoo.com
END:VEVENT
BEGIN:VEVENT
DTSTART;VALUE=DATE:20221008
DTEND;VALUE=DATE:20221009
DTSTAMP:20260424T104137
CREATED:20211214T180631Z
LAST-MODIFIED:20211214T180848Z
UID:10000224-1665187200-1665273599@usawe.org
SUMMARY:OH: Brecksville Buckle #5
DESCRIPTION:License #22-043
URL:https://usawe.org/event/oh-brecksville-buckle-5/
LOCATION:Brecksville Stables\, 11921 Parkview Dr\, Brecksville\, OH\, 44141\, United States
CATEGORIES:Competitions (all),Region 5
ORGANIZER;CN="Stephani A Kame":MAILTO:slkstudio@yahoo.com
END:VEVENT
BEGIN:VEVENT
DTSTART;VALUE=DATE:20220605
DTEND;VALUE=DATE:20220606
DTSTAMP:20260424T104137
CREATED:20211214T022327Z
LAST-MODIFIED:20211214T022327Z
UID:10000223-1654387200-1654473599@usawe.org
SUMMARY:OH: Brecksville Buckle #2
DESCRIPTION:Competition #22-040
URL:https://usawe.org/event/oh-brecksville-buckle-2/
LOCATION:Brecksville Stables\, 11921 Parkview Dr\, Brecksville\, OH\, 44141\, United States
CATEGORIES:Competitions (all),Region 5
ORGANIZER;CN="Stephani A Kame":MAILTO:slkstudio@yahoo.com
END:VEVENT
BEGIN:VEVENT
DTSTART;VALUE=DATE:20220604
DTEND;VALUE=DATE:20220605
DTSTAMP:20260424T104137
CREATED:20211214T022215Z
LAST-MODIFIED:20211214T022215Z
UID:10000222-1654300800-1654387199@usawe.org
SUMMARY:OH: Brecksville Buckle #1
DESCRIPTION:Show #22-039
URL:https://usawe.org/event/oh-brecksville-buckle-1/
LOCATION:Brecksville Stables\, 11921 Parkview Dr\, Brecksville\, OH\, 44141\, United States
CATEGORIES:Competitions (all),Region 5
ORGANIZER;CN="Stephani A Kame":MAILTO:slkstudio@yahoo.com
END:VEVENT
BEGIN:VEVENT
DTSTART;TZID=America/Los_Angeles:20210905T060000
DTEND;TZID=America/Los_Angeles:20210905T143000
DTSTAMP:20260424T104137
CREATED:20201121T143322Z
LAST-MODIFIED:20201207T030352Z
UID:10000008-1630821600-1630852200@usawe.org
SUMMARY:OH: Brecksville Buckle Series September Show A
DESCRIPTION:Part of the 2021 Region 5 Buckle Series \nB-Rated competition offering Introductory through Intermediate B levels.\nBrought to you by Classical Attraction Dressage Society \nJudge: Polly Limond\, S\, California \nLicense # 21-007(P)
URL:https://usawe.org/event/oh-brecksville-buckle-series-september-show-a/
LOCATION:Brecksville Stables\, 11921 Parkview Dr\, Brecksville\, OH\, 44141\, United States
CATEGORIES:Competitions (all),Region 5
ORGANIZER;CN="Stephani A Kame":MAILTO:slkstudio@yahoo.com
END:VEVENT
BEGIN:VEVENT
DTSTART;TZID=America/Los_Angeles:20210904T060000
DTEND;TZID=America/Los_Angeles:20210904T143000
DTSTAMP:20260424T104137
CREATED:20201121T143540Z
LAST-MODIFIED:20201207T030248Z
UID:10000009-1630735200-1630765800@usawe.org
SUMMARY:OH: Brecksville Buckle Series\, September Show A
DESCRIPTION:Part of the 2021 Region 5 Buckle Series \nB-Rated competition offering Introductory through Advanced levels.\nBrought to you by Classical Attraction Dressage Society \nJudge: Polly Limond\, S\, California \nLicense # 21-008(P)
URL:https://usawe.org/event/oh-brecksville-buckle-series-september-show-b/
LOCATION:Brecksville Stables\, 11921 Parkview Dr\, Brecksville\, OH\, 44141\, United States
CATEGORIES:Competitions (all),Region 5
ORGANIZER;CN="Stephani A Kame":MAILTO:slkstudio@yahoo.com
END:VEVENT
BEGIN:VEVENT
DTSTART;TZID=America/Los_Angeles:20210613T050000
DTEND;TZID=America/Los_Angeles:20210613T175900
DTSTAMP:20260424T104137
CREATED:20201121T143121Z
LAST-MODIFIED:20210613T025056Z
UID:10000007-1623560400-1623607140@usawe.org
SUMMARY:OH: Brecksville Buckle Series\, June Show B
DESCRIPTION:Part of the 2021 Region 5 Buckle Series \nB-Rated competition offering Introductory through Intermediate B levels.\nBrought to you by Classical Attraction Dressage Society \nJudge: Tarrin Warren \nLicense # 21-006
URL:https://usawe.org/event/oh-brecksville-buckle-series-june-show-b/
LOCATION:Brecksville Stables\, 11921 Parkview Dr\, Brecksville\, OH\, 44141\, United States
CATEGORIES:Competitions (all),Region 5
ORGANIZER;CN="Stephani A Kame":MAILTO:slkstudio@yahoo.com
END:VEVENT
BEGIN:VEVENT
DTSTART;TZID=America/Los_Angeles:20210612T050000
DTEND;TZID=America/Los_Angeles:20210612T170000
DTSTAMP:20260424T104137
CREATED:20201121T142519Z
LAST-MODIFIED:20210613T025117Z
UID:10000006-1623474000-1623517200@usawe.org
SUMMARY:OH: Brecksville Buckle Series\, June Show A
DESCRIPTION:Part of the 2021 Region 5 Buckle Series \nB-Rated competition offering Introductory through Advanced levels.\nBrought to you by Classical Attraction Dressage Society \nJudge: Tarrin Warren \nLicense # 21-005
URL:https://usawe.org/event/oh-brecksville-buckle-series-june-show-a/
LOCATION:Brecksville Stables\, 11921 Parkview Dr\, Brecksville\, OH\, 44141\, United States
CATEGORIES:Competitions (all),Region 5
ORGANIZER;CN="Stephani A Kame":MAILTO:slkstudio@yahoo.com
END:VEVENT
BEGIN:VEVENT
DTSTART;VALUE=DATE:20210528
DTEND;VALUE=DATE:20210531
DTSTAMP:20260424T104137
CREATED:20210127T175307Z
LAST-MODIFIED:20210127T175307Z
UID:10000088-1622160000-1622419199@usawe.org
SUMMARY:OH: Carlos Carneiro 3-Day Clinic
DESCRIPTION:Carlos will be offering private dressage rides and semi private EOH rides each day. Limited rider spots available.  \nSponsored by Classical Attraction Dressage Society. \n 
URL:https://usawe.org/event/oh-carlos-carneiro-3-day-clinic/
LOCATION:Brecksville Stables\, 11921 Parkview Dr\, Brecksville\, OH\, 44141\, United States
CATEGORIES:All Clinics,Region 5
ORGANIZER;CN="Stephani A Kame":MAILTO:slkstudio@yahoo.com
END:VEVENT
END:VCALENDAR