BEGIN:VCALENDAR
VERSION:2.0
PRODID:-//USA Working Equitation - ECPv6.15.20//NONSGML v1.0//EN
CALSCALE:GREGORIAN
METHOD:PUBLISH
X-ORIGINAL-URL:https://usawe.org
X-WR-CALDESC:Events for USA Working Equitation
REFRESH-INTERVAL;VALUE=DURATION:PT1H
X-Robots-Tag:noindex
X-PUBLISHED-TTL:PT1H
BEGIN:VTIMEZONE
TZID:America/Los_Angeles
BEGIN:DAYLIGHT
TZOFFSETFROM:-0800
TZOFFSETTO:-0700
TZNAME:PDT
DTSTART:20250309T100000
END:DAYLIGHT
BEGIN:STANDARD
TZOFFSETFROM:-0700
TZOFFSETTO:-0800
TZNAME:PST
DTSTART:20251102T090000
END:STANDARD
BEGIN:DAYLIGHT
TZOFFSETFROM:-0800
TZOFFSETTO:-0700
TZNAME:PDT
DTSTART:20260308T100000
END:DAYLIGHT
BEGIN:STANDARD
TZOFFSETFROM:-0700
TZOFFSETTO:-0800
TZNAME:PST
DTSTART:20261101T090000
END:STANDARD
BEGIN:DAYLIGHT
TZOFFSETFROM:-0800
TZOFFSETTO:-0700
TZNAME:PDT
DTSTART:20270314T100000
END:DAYLIGHT
BEGIN:STANDARD
TZOFFSETFROM:-0700
TZOFFSETTO:-0800
TZNAME:PST
DTSTART:20271107T090000
END:STANDARD
END:VTIMEZONE
BEGIN:VEVENT
DTSTART;VALUE=DATE:20260801
DTEND;VALUE=DATE:20260802
DTSTAMP:20260423T103802
CREATED:20260317T042530Z
LAST-MODIFIED:20260317T042530Z
UID:10001427-1785542400-1785628799@usawe.org
SUMMARY:NY: (26-137) WE in the Finger Lakes! Show #1 and #2
DESCRIPTION:Join us for two fun USAWE licensed competitions!
URL:https://usawe.org/event/ny-26-137-we-in-the-finger-lakes-show-1-and-2/
LOCATION:Hemlock Fairgrounds\, Hemlock\, NY\, United States
CATEGORIES:Competitions (all),Region 6
ORGANIZER;CN="Beth Harrison":MAILTO:NYSWorkingEq@gmail.com
END:VEVENT
BEGIN:VEVENT
DTSTART;VALUE=DATE:20260822
DTEND;VALUE=DATE:20260824
DTSTAMP:20260423T103802
CREATED:20251218T202809Z
LAST-MODIFIED:20251218T202809Z
UID:10001356-1787356800-1787529599@usawe.org
SUMMARY:NJ: (26-061) (26-062) WE East at Dream Park #3\, #4
DESCRIPTION:Judge: Rebecca Algar\, S\nTD: Deb Quillinan \nShow Manager: Holly Linz
URL:https://usawe.org/event/nj-26-061-26-062-we-east-at-dream-park-3-4/
LOCATION:Dream Park\, Logan Township\, NJ\, United States
CATEGORIES:Competitions (all),Region 6
ORGANIZER;CN="Holly Linz":MAILTO:keepstables@yahoo.com
END:VEVENT
END:VCALENDAR