BEGIN:VCALENDAR
VERSION:2.0
PRODID:-//USA Working Equitation - ECPv6.15.20//NONSGML v1.0//EN
CALSCALE:GREGORIAN
METHOD:PUBLISH
X-ORIGINAL-URL:https://usawe.org
X-WR-CALDESC:Events for USA Working Equitation
REFRESH-INTERVAL;VALUE=DURATION:PT1H
X-Robots-Tag:noindex
X-PUBLISHED-TTL:PT1H
BEGIN:VTIMEZONE
TZID:America/Los_Angeles
BEGIN:DAYLIGHT
TZOFFSETFROM:-0800
TZOFFSETTO:-0700
TZNAME:PDT
DTSTART:20250309T100000
END:DAYLIGHT
BEGIN:STANDARD
TZOFFSETFROM:-0700
TZOFFSETTO:-0800
TZNAME:PST
DTSTART:20251102T090000
END:STANDARD
BEGIN:DAYLIGHT
TZOFFSETFROM:-0800
TZOFFSETTO:-0700
TZNAME:PDT
DTSTART:20260308T100000
END:DAYLIGHT
BEGIN:STANDARD
TZOFFSETFROM:-0700
TZOFFSETTO:-0800
TZNAME:PST
DTSTART:20261101T090000
END:STANDARD
BEGIN:DAYLIGHT
TZOFFSETFROM:-0800
TZOFFSETTO:-0700
TZNAME:PDT
DTSTART:20270314T100000
END:DAYLIGHT
BEGIN:STANDARD
TZOFFSETFROM:-0700
TZOFFSETTO:-0800
TZNAME:PST
DTSTART:20271107T090000
END:STANDARD
END:VTIMEZONE
BEGIN:VEVENT
DTSTART;TZID=America/Los_Angeles:20260121T170000
DTEND;TZID=America/Los_Angeles:20260121T180000
DTSTAMP:20260419T094850
CREATED:20260113T042758Z
LAST-MODIFIED:20260120T174332Z
UID:10001379-1769014800-1769018400@usawe.org
SUMMARY:NY: Event Planning Call via Zoom with AO: Cayuga Dressage and Combined Training
DESCRIPTION:Cayuga Dressage and Combined Training\, an Affiliate Organization of USAWE is hosting our second information session with Stephanie Hayes to discuss preparing for their three fun days\, “Experiencing Obstacles in Working Equitation” planned for 2/8\, 3/8 and 5/3 at Cazabu Farm.  Contact Jane Marie Law at jml16@cornell.edu for the ZOOM link and to get more information about the fun days. \nThis planning session will begin at 8 pm\, Eastern.
URL:https://usawe.org/event/ny-event-planning-call-via-zoom-with-ao-cayuga-dressage-and-combined-training/
LOCATION:https://cornell.zoom.us/j/93341819215?pwd=bEGbu560bbEfbZu87cgNaVgbgrz9jP.1
CATEGORIES:Region 6
ORGANIZER;CN="Cayuga Dressage and Combined Training":MAILTO:jml16@cornell.edu
END:VEVENT
END:VCALENDAR