BEGIN:VCALENDAR
VERSION:2.0
PRODID:-//USA Working Equitation - ECPv6.15.20//NONSGML v1.0//EN
CALSCALE:GREGORIAN
METHOD:PUBLISH
X-WR-CALNAME:USA Working Equitation
X-ORIGINAL-URL:https://usawe.org
X-WR-CALDESC:Events for USA Working Equitation
REFRESH-INTERVAL;VALUE=DURATION:PT1H
X-Robots-Tag:noindex
X-PUBLISHED-TTL:PT1H
BEGIN:VTIMEZONE
TZID:America/Los_Angeles
BEGIN:DAYLIGHT
TZOFFSETFROM:-0800
TZOFFSETTO:-0700
TZNAME:PDT
DTSTART:20250309T100000
END:DAYLIGHT
BEGIN:STANDARD
TZOFFSETFROM:-0700
TZOFFSETTO:-0800
TZNAME:PST
DTSTART:20251102T090000
END:STANDARD
BEGIN:DAYLIGHT
TZOFFSETFROM:-0800
TZOFFSETTO:-0700
TZNAME:PDT
DTSTART:20260308T100000
END:DAYLIGHT
BEGIN:STANDARD
TZOFFSETFROM:-0700
TZOFFSETTO:-0800
TZNAME:PST
DTSTART:20261101T090000
END:STANDARD
BEGIN:DAYLIGHT
TZOFFSETFROM:-0800
TZOFFSETTO:-0700
TZNAME:PDT
DTSTART:20270314T100000
END:DAYLIGHT
BEGIN:STANDARD
TZOFFSETFROM:-0700
TZOFFSETTO:-0800
TZNAME:PST
DTSTART:20271107T090000
END:STANDARD
END:VTIMEZONE
BEGIN:VEVENT
DTSTART;VALUE=DATE:20260704
DTEND;VALUE=DATE:20260705
DTSTAMP:20260425T110052
CREATED:20260216T050457Z
LAST-MODIFIED:20260317T041111Z
UID:10001394-1783123200-1783209599@usawe.org
SUMMARY:MN: (26-124) (26-125) WEIn Full Bloom #1\, #2
DESCRIPTION:License#(s):  26-124 and 26125 \nShow Name(s): Working Equitation In Full Bloom #1 and #2 \nShow Date(s): 7/4/2026 and 7/4/2026 \nLocation: Mon Cheval Training Center\, Cannon Falls\, MN \nJudge: TBD \nTD: #1- Sammi Korinek\, #2 – Angela Black \nGate Steward: Angela Black \nShow Manager:  Bailey Korinek
URL:https://usawe.org/event/mn-working-equitation-in-full-bloom-1-2/
LOCATION:Mon Cheval Training Center\, Cannon Falls\, MN\, United States
CATEGORIES:Competitions (all),Region 5
ORGANIZER;CN="Sammi Korinek":MAILTO:WEQMinnesota@gmail.com
END:VEVENT
END:VCALENDAR