BEGIN:VCALENDAR
VERSION:2.0
PRODID:-//USA Working Equitation - ECPv6.15.20//NONSGML v1.0//EN
CALSCALE:GREGORIAN
METHOD:PUBLISH
X-ORIGINAL-URL:https://usawe.org
X-WR-CALDESC:Events for USA Working Equitation
REFRESH-INTERVAL;VALUE=DURATION:PT1H
X-Robots-Tag:noindex
X-PUBLISHED-TTL:PT1H
BEGIN:VTIMEZONE
TZID:America/Los_Angeles
BEGIN:DAYLIGHT
TZOFFSETFROM:-0800
TZOFFSETTO:-0700
TZNAME:PDT
DTSTART:20250309T100000
END:DAYLIGHT
BEGIN:STANDARD
TZOFFSETFROM:-0700
TZOFFSETTO:-0800
TZNAME:PST
DTSTART:20251102T090000
END:STANDARD
BEGIN:DAYLIGHT
TZOFFSETFROM:-0800
TZOFFSETTO:-0700
TZNAME:PDT
DTSTART:20260308T100000
END:DAYLIGHT
BEGIN:STANDARD
TZOFFSETFROM:-0700
TZOFFSETTO:-0800
TZNAME:PST
DTSTART:20261101T090000
END:STANDARD
BEGIN:DAYLIGHT
TZOFFSETFROM:-0800
TZOFFSETTO:-0700
TZNAME:PDT
DTSTART:20270314T100000
END:DAYLIGHT
BEGIN:STANDARD
TZOFFSETFROM:-0700
TZOFFSETTO:-0800
TZNAME:PST
DTSTART:20271107T090000
END:STANDARD
END:VTIMEZONE
BEGIN:VEVENT
DTSTART;VALUE=DATE:20260425
DTEND;VALUE=DATE:20260426
DTSTAMP:20260424T121930
CREATED:20260216T053936Z
LAST-MODIFIED:20260216T053936Z
UID:10001400-1777075200-1777161599@usawe.org
SUMMARY:KS: WEKS Schooling Show #2
DESCRIPTION:Schooling shows\nApril 25\, May 17\, May 30\, Aug 1\, Sept 11
URL:https://usawe.org/event/ks-weks-schooling-show-2/
LOCATION:CO
CATEGORIES:All Schooling Shows,Region 3
ORGANIZER;CN="Linda Frazier":MAILTO:lindafrazier8@gmail.com
END:VEVENT
BEGIN:VEVENT
DTSTART;VALUE=DATE:20260425
DTEND;VALUE=DATE:20260427
DTSTAMP:20260424T121930
CREATED:20251218T194658Z
LAST-MODIFIED:20251218T194729Z
UID:10001340-1777075200-1777247999@usawe.org
SUMMARY:KS (26-054) (26-055) WEKS #1 & #2
DESCRIPTION:Judge: Rebecca Algar\, S\, Florida\nTD: Layn Russell\nShow Manager: Kris Westoff and Linda Frazier \nFor more information\, email lindafrazier8@gmail.com
URL:https://usawe.org/event/ks-26-054-26-055/
LOCATION:Kansas State Fairgrounds\, 2000 North Poplar\, Hutchinson\, KS\, 67502\, United States
CATEGORIES:Competitions (all),Region 3
ORGANIZER;CN="Linda Frazier":MAILTO:lindafrazier8@gmail.com
END:VEVENT
BEGIN:VEVENT
DTSTART;VALUE=DATE:20260517
DTEND;VALUE=DATE:20260518
DTSTAMP:20260424T121930
CREATED:20260216T054151Z
LAST-MODIFIED:20260216T054151Z
UID:10001401-1778976000-1779062399@usawe.org
SUMMARY:KS: WEKS Schooling Show #3
DESCRIPTION:Join USAWE Affiliate Organization WEKS for their 2026 schooling show series: May 17\, May 30\, Aug 1\, Sept 11
URL:https://usawe.org/event/ks-weks-schooling-show-3/
LOCATION:CO
CATEGORIES:All Schooling Shows,Region 3
ORGANIZER;CN="Linda Frazier":MAILTO:lindafrazier8@gmail.com
END:VEVENT
BEGIN:VEVENT
DTSTART;VALUE=DATE:20260530
DTEND;VALUE=DATE:20260531
DTSTAMP:20260424T121930
CREATED:20260216T054310Z
LAST-MODIFIED:20260216T054310Z
UID:10001402-1780099200-1780185599@usawe.org
SUMMARY:KS: WEKS Schooling Show #4
DESCRIPTION:Join USAWE Affiliate Organization WEKS for their 2026 schooling show series: May 30\, Aug 1\, Sept 11
URL:https://usawe.org/event/ks-weks-schooling-show-4/
LOCATION:CO
CATEGORIES:All Schooling Shows,Region 3
ORGANIZER;CN="Linda Frazier":MAILTO:lindafrazier8@gmail.com
END:VEVENT
BEGIN:VEVENT
DTSTART;VALUE=DATE:20260530
DTEND;VALUE=DATE:20260601
DTSTAMP:20260424T121930
CREATED:20251218T195820Z
LAST-MODIFIED:20251218T195820Z
UID:10001345-1780099200-1780271999@usawe.org
SUMMARY:KS: (26-051) WEKS #3
DESCRIPTION:Judge: Marie Maloney\, “r”\nTD: Layn Russell \nShow Managers: Kris Westhoff and Linda Frazier
URL:https://usawe.org/event/ks-26-051-weks-3/
LOCATION:Diamond 8 Ranch\, Hutchinson\, KS\, United States
CATEGORIES:Competitions (all),Region 3
ORGANIZER;CN="Linda Frazier":MAILTO:lindafrazier8@gmail.com
END:VEVENT
BEGIN:VEVENT
DTSTART;VALUE=DATE:20260530
DTEND;VALUE=DATE:20260601
DTSTAMP:20260424T121930
CREATED:20260317T042002Z
LAST-MODIFIED:20260317T042002Z
UID:10001426-1780099200-1780271999@usawe.org
SUMMARY:CO: (26-131) (26-132) HCWE Show #1 and #2
DESCRIPTION:Join High Country Working Equitation for two licensed WE shows!
URL:https://usawe.org/event/co-26-131-26-132-hcwe-show-1-and-2/
LOCATION:Boulder County Fairgrounds\, CO\, United States
CATEGORIES:Competitions (all),Region 3
ORGANIZER;CN="Karen Burch":MAILTO:crickest413@gmail.com &amp; 1chstanko@gmail.com
END:VEVENT
BEGIN:VEVENT
DTSTART;VALUE=DATE:20260613
DTEND;VALUE=DATE:20260615
DTSTAMP:20260424T121930
CREATED:20260226T193629Z
LAST-MODIFIED:20260226T193629Z
UID:10001407-1781308800-1781481599@usawe.org
SUMMARY:SD: (26-152) (26-153) Black Hills WE Show #1 & #2
DESCRIPTION:Come join us for South Dakota’s first licensed WE competitions at the Buffalo Berry Arena in Sturgis\, SD! \nJudge: Amy Star\, “R”
URL:https://usawe.org/event/sd-26-152-26-153-black-hills-we-show-1-2/
LOCATION:Buffalo Berry Arena\, 12315 Buffalo Berry Rd\, Sturgis\, SD\, 57785\, United States
CATEGORIES:Competitions (all),Region 3
ORGANIZER;CN="Sharlene Bergum":MAILTO:jsbergum1@gmail.com
END:VEVENT
BEGIN:VEVENT
DTSTART;VALUE=DATE:20260627
DTEND;VALUE=DATE:20260629
DTSTAMP:20260424T121930
CREATED:20251218T201541Z
LAST-MODIFIED:20251218T201541Z
UID:10001352-1782518400-1782691199@usawe.org
SUMMARY:KS: (26-056) (26-057) WEKS #4\, #5
DESCRIPTION:Judge: Polly Limond\, S\nTD: Layn Russell \nShow Managers: Sharon Reed\, Kate Fowler
URL:https://usawe.org/event/ks-26-056-26-057-weks-4-5/
LOCATION:R and D Ranch\, LLC\, Topeka\, KS\, United States
CATEGORIES:Competitions (all),Region 3
END:VEVENT
BEGIN:VEVENT
DTSTART;VALUE=DATE:20260627
DTEND;VALUE=DATE:20260629
DTSTAMP:20260424T121930
CREATED:20251218T202059Z
LAST-MODIFIED:20251218T202059Z
UID:10001353-1782518400-1782691199@usawe.org
SUMMARY:WY: (26-078) (26-079) Moonrock Working Equitation #1.\, #2
DESCRIPTION:Judge: TBD\nTD: Joy Chadsey \nShow Managers: Teresa Bain\, Tracey Dalton
URL:https://usawe.org/event/wy-26-078-26-079-moonrock-working-equitation-1-2/
LOCATION:Washakie County Fairground\, Worland\, WY\, United States
CATEGORIES:Competitions (all),Region 3
ORGANIZER;CN="Teresa Bain":MAILTO:stardustcopperdesigns@gmail.com
END:VEVENT
BEGIN:VEVENT
DTSTART;VALUE=DATE:20260711
DTEND;VALUE=DATE:20260713
DTSTAMP:20260424T121930
CREATED:20251230T181540Z
LAST-MODIFIED:20251230T181540Z
UID:10001374-1783728000-1783900799@usawe.org
SUMMARY:CO: (26-086) (26-087) HCWE Show #3 & #4
DESCRIPTION:Offering L1-L5 \nJudge: Doreen Atkinson\, “S”\, Texas
URL:https://usawe.org/event/co-26-086-26-087-hcwe-show-3-4/
LOCATION:Circle Star Arena\, 16191 Co Rd 17\, Platteville\, CO\, 80651\, United States
CATEGORIES:Competitions (all),Region 3
ORGANIZER;CN="Karen Burch":MAILTO:crickest413@gmail.com &amp; 1chstanko@gmail.com
END:VEVENT
BEGIN:VEVENT
DTSTART;VALUE=DATE:20260801
DTEND;VALUE=DATE:20260802
DTSTAMP:20260424T121930
CREATED:20260216T054409Z
LAST-MODIFIED:20260216T054409Z
UID:10001403-1785542400-1785628799@usawe.org
SUMMARY:KS: WEKS Shooling Show #5
DESCRIPTION:Join USAWE Affiliate Organization WEKS for their 2026 schooling show series: Aug 1\, Sept 11
URL:https://usawe.org/event/ks-weks-shooling-show-5/
LOCATION:CO
CATEGORIES:All Schooling Shows,Region 3
ORGANIZER;CN="Linda Frazier":MAILTO:lindafrazier8@gmail.com
END:VEVENT
BEGIN:VEVENT
DTSTART;VALUE=DATE:20260911
DTEND;VALUE=DATE:20260912
DTSTAMP:20260424T121930
CREATED:20260216T054520Z
LAST-MODIFIED:20260216T054520Z
UID:10001404-1789084800-1789171199@usawe.org
SUMMARY:KS: WEKS Schooling Show #6
DESCRIPTION:Join USAWE Affiliate Organization WEKS for their final event in their 2026 schooling show series: Sept 11
URL:https://usawe.org/event/ks-weks-schooling-show-6/
LOCATION:CO
CATEGORIES:All Schooling Shows,Region 3
ORGANIZER;CN="Linda Frazier":MAILTO:lindafrazier8@gmail.com
END:VEVENT
BEGIN:VEVENT
DTSTART;VALUE=DATE:20260911
DTEND;VALUE=DATE:20260914
DTSTAMP:20260424T121930
CREATED:20251218T203219Z
LAST-MODIFIED:20260216T053717Z
UID:10001358-1789084800-1789343999@usawe.org
SUMMARY:KS: (26-052) (26-053) WEKS #6\, #7
DESCRIPTION:Judge: Kim Roe\, “R”\, Washington\nTD: Layn Russell \nShow Managers: Kris Westhoff\, Linda Frazier
URL:https://usawe.org/event/ks-25-052-25-053-weks-6-7/
LOCATION:Kansas State Fairgrounds\, 2000 North Poplar\, Hutchinson\, KS\, 67502\, United States
CATEGORIES:Competitions (all),Region 3
ORGANIZER;CN="Linda Frazier":MAILTO:lindafrazier8@gmail.com
END:VEVENT
BEGIN:VEVENT
DTSTART;VALUE=DATE:20260912
DTEND;VALUE=DATE:20260914
DTSTAMP:20260424T121930
CREATED:20251230T181819Z
LAST-MODIFIED:20251230T181819Z
UID:10001375-1789171200-1789343999@usawe.org
SUMMARY:CO: (26-088) (26-089) HCWE #5 & #6
DESCRIPTION:Offering L1 – L5 \nJudge: Rebecca Algar\, “S”\, Florida
URL:https://usawe.org/event/co-26-088-26-089-hcwe-5-6/
LOCATION:Boulder County Fairgrounds\, CO\, United States
CATEGORIES:Competitions (all),Region 3
ORGANIZER;CN="High Country Working Equitation":MAILTO:jamesoncahill78@gmail.com
END:VEVENT
BEGIN:VEVENT
DTSTART;VALUE=DATE:20261016
DTEND;VALUE=DATE:20261020
DTSTAMP:20260424T121930
CREATED:20251218T204240Z
LAST-MODIFIED:20251218T204240Z
UID:10001362-1792108800-1792454399@usawe.org
SUMMARY:KS: R3 and R4 2026 Championships
DESCRIPTION:Stay tuned for more information to come!
URL:https://usawe.org/event/ks-r3-and-r4-2026-championships/
LOCATION:Kansas State Fairgrounds\, 2000 North Poplar\, Hutchinson\, KS\, 67502\, United States
CATEGORIES:Competitions (all),Region 3,Region 4
ORGANIZER;CN="Linda Frazier":MAILTO:lindafrazier8@gmail.com
END:VEVENT
END:VCALENDAR