BEGIN:VCALENDAR
VERSION:2.0
PRODID:-//USA Working Equitation - ECPv6.15.20//NONSGML v1.0//EN
CALSCALE:GREGORIAN
METHOD:PUBLISH
X-ORIGINAL-URL:https://usawe.org
X-WR-CALDESC:Events for USA Working Equitation
REFRESH-INTERVAL;VALUE=DURATION:PT1H
X-Robots-Tag:noindex
X-PUBLISHED-TTL:PT1H
BEGIN:VTIMEZONE
TZID:America/Los_Angeles
BEGIN:DAYLIGHT
TZOFFSETFROM:-0800
TZOFFSETTO:-0700
TZNAME:PDT
DTSTART:20250309T100000
END:DAYLIGHT
BEGIN:STANDARD
TZOFFSETFROM:-0700
TZOFFSETTO:-0800
TZNAME:PST
DTSTART:20251102T090000
END:STANDARD
BEGIN:DAYLIGHT
TZOFFSETFROM:-0800
TZOFFSETTO:-0700
TZNAME:PDT
DTSTART:20260308T100000
END:DAYLIGHT
BEGIN:STANDARD
TZOFFSETFROM:-0700
TZOFFSETTO:-0800
TZNAME:PST
DTSTART:20261101T090000
END:STANDARD
BEGIN:DAYLIGHT
TZOFFSETFROM:-0800
TZOFFSETTO:-0700
TZNAME:PDT
DTSTART:20270314T100000
END:DAYLIGHT
BEGIN:STANDARD
TZOFFSETFROM:-0700
TZOFFSETTO:-0800
TZNAME:PST
DTSTART:20271107T090000
END:STANDARD
END:VTIMEZONE
BEGIN:VEVENT
DTSTART;VALUE=DATE:20260618
DTEND;VALUE=DATE:20260622
DTSTAMP:20260424T103926
CREATED:20250813T212200Z
LAST-MODIFIED:20250813T212200Z
UID:10001325-1781740800-1782086399@usawe.org
SUMMARY:CA: BAWE Moo
DESCRIPTION:3 day clinic\, including a day with cows\, followed by a schooling show! \n  \n  \n 
URL:https://usawe.org/event/ca-bawe-moo/
LOCATION:CA
CATEGORIES:All Clinics,All Schooling Shows,Region 2
ORGANIZER;CN="Ali Kermeen":MAILTO:alikermeen@gmail.com
END:VEVENT
BEGIN:VEVENT
DTSTART;VALUE=DATE:20260620
DTEND;VALUE=DATE:20260622
DTSTAMP:20260424T103926
CREATED:20251218T201009Z
LAST-MODIFIED:20251218T201009Z
UID:10001350-1781913600-1782086399@usawe.org
SUMMARY:CA: (26-072) (26-073) ECFWE-2026 #3\, #4
DESCRIPTION:Judges: Polly Limond\, S\, and Erica Peet\, R\nTDs: Jill Mahdessian and Karina Rothschild \nShow Manager: Christy Reich
URL:https://usawe.org/event/ca-26-072-26-073-ecfwe-2026-3-4/
LOCATION:El Campeón Farms\, 999 W. Potrero Rd.\, Thousand Oaks\, CA\, 91361\, United States
CATEGORIES:Competitions (all),Region 2
ORGANIZER;CN="Christy Reich":MAILTO:creich@elcampeonfarms.com
END:VEVENT
END:VCALENDAR