BEGIN:VCALENDAR
VERSION:2.0
PRODID:-//USA Working Equitation - ECPv6.15.20//NONSGML v1.0//EN
CALSCALE:GREGORIAN
METHOD:PUBLISH
X-ORIGINAL-URL:https://usawe.org
X-WR-CALDESC:Events for USA Working Equitation
REFRESH-INTERVAL;VALUE=DURATION:PT1H
X-Robots-Tag:noindex
X-PUBLISHED-TTL:PT1H
BEGIN:VTIMEZONE
TZID:America/Los_Angeles
BEGIN:DAYLIGHT
TZOFFSETFROM:-0800
TZOFFSETTO:-0700
TZNAME:PDT
DTSTART:20250309T100000
END:DAYLIGHT
BEGIN:STANDARD
TZOFFSETFROM:-0700
TZOFFSETTO:-0800
TZNAME:PST
DTSTART:20251102T090000
END:STANDARD
BEGIN:DAYLIGHT
TZOFFSETFROM:-0800
TZOFFSETTO:-0700
TZNAME:PDT
DTSTART:20260308T100000
END:DAYLIGHT
BEGIN:STANDARD
TZOFFSETFROM:-0700
TZOFFSETTO:-0800
TZNAME:PST
DTSTART:20261101T090000
END:STANDARD
BEGIN:DAYLIGHT
TZOFFSETFROM:-0800
TZOFFSETTO:-0700
TZNAME:PDT
DTSTART:20270314T100000
END:DAYLIGHT
BEGIN:STANDARD
TZOFFSETFROM:-0700
TZOFFSETTO:-0800
TZNAME:PST
DTSTART:20271107T090000
END:STANDARD
END:VTIMEZONE
BEGIN:VEVENT
DTSTART;VALUE=DATE:20260425
DTEND;VALUE=DATE:20260426
DTSTAMP:20260421T134454
CREATED:20260227T180820Z
LAST-MODIFIED:20260227T180820Z
UID:10001409-1777075200-1777161599@usawe.org
SUMMARY:CA: Ring of Fire #1 - Schooling Show & Clinic
DESCRIPTION:Saturday Clinic with Jack Burns\, Sunday Schooling Show All Levels \n  \nhttps://drive.google.com/open?id=1QaW9cTZbLzLU00aJM6Zeb5ae7mVdPzvz
URL:https://usawe.org/event/ca-ring-of-fire-1-schooling-show-clinic/
LOCATION:Rawking Horse Ranch\, Briones\, CA\, United States
CATEGORIES:All Clinics,All Schooling Shows,Region 2
ORGANIZER;CN="Ali Kermeen":MAILTO:alikermeen@gmail.com
END:VEVENT
END:VCALENDAR