BEGIN:VCALENDAR
VERSION:2.0
PRODID:-//USA Working Equitation - ECPv6.15.20//NONSGML v1.0//EN
CALSCALE:GREGORIAN
METHOD:PUBLISH
X-WR-CALNAME:USA Working Equitation
X-ORIGINAL-URL:https://usawe.org
X-WR-CALDESC:Events for USA Working Equitation
REFRESH-INTERVAL;VALUE=DURATION:PT1H
X-Robots-Tag:noindex
X-PUBLISHED-TTL:PT1H
BEGIN:VTIMEZONE
TZID:America/Los_Angeles
BEGIN:DAYLIGHT
TZOFFSETFROM:-0800
TZOFFSETTO:-0700
TZNAME:PDT
DTSTART:20250309T100000
END:DAYLIGHT
BEGIN:STANDARD
TZOFFSETFROM:-0700
TZOFFSETTO:-0800
TZNAME:PST
DTSTART:20251102T090000
END:STANDARD
BEGIN:DAYLIGHT
TZOFFSETFROM:-0800
TZOFFSETTO:-0700
TZNAME:PDT
DTSTART:20260308T100000
END:DAYLIGHT
BEGIN:STANDARD
TZOFFSETFROM:-0700
TZOFFSETTO:-0800
TZNAME:PST
DTSTART:20261101T090000
END:STANDARD
BEGIN:DAYLIGHT
TZOFFSETFROM:-0800
TZOFFSETTO:-0700
TZNAME:PDT
DTSTART:20270314T100000
END:DAYLIGHT
BEGIN:STANDARD
TZOFFSETFROM:-0700
TZOFFSETTO:-0800
TZNAME:PST
DTSTART:20271107T090000
END:STANDARD
END:VTIMEZONE
BEGIN:VEVENT
DTSTART;VALUE=DATE:20260301
DTEND;VALUE=DATE:20260302
DTSTAMP:20260425T111825
CREATED:20250528T181754Z
LAST-MODIFIED:20260226T194421Z
UID:10001309-1772323200-1772409599@usawe.org
SUMMARY:AZ: (26-148) AZWEC State Finals
DESCRIPTION:License#(s): 25-148 \nShow Name(s):  AZWEC State Finals (rescheduled from 2025) \nShow Date(s):  3/1/2026 \nLocation: Tucson\, AZ \nJudge: Sarah Pinney and Marie Maloney \nTD: Joy Chadsey \nGate Steward: Susie Taylor \nShow Manager: Amy Star and Karen Anderson
URL:https://usawe.org/event/az-25-139-25-140-azwec-fall-sonoita-show-state-finals/
LOCATION:Tucson\, Tucson\, AZ
CATEGORIES:Competitions (all),Region 2
ORGANIZER;CN="Amy Star":MAILTO:AmyStarLusitanos@gmail.com
END:VEVENT
BEGIN:VEVENT
DTSTART;VALUE=DATE:20260301
DTEND;VALUE=DATE:20260302
DTSTAMP:20260425T111825
CREATED:20260317T035728Z
LAST-MODIFIED:20260317T035728Z
UID:10001423-1772323200-1772409599@usawe.org
SUMMARY:CA: (26-112) PVRA Spring WE show
DESCRIPTION:Another great WE show at Poway Valley Riders Association!
URL:https://usawe.org/event/ca-26-112-pvra-spring-we-show/
LOCATION:Poway Valley Riders Association\, 14336 Tierra Bonita Rd\, Poway\, CA\, 92064\, United States
CATEGORIES:Competitions (all),Region 2
ORGANIZER;CN="Janice Kall":MAILTO:workingequ@pvra.com
END:VEVENT
END:VCALENDAR