BEGIN:VCALENDAR
VERSION:2.0
PRODID:-//USA Working Equitation - ECPv6.15.20//NONSGML v1.0//EN
CALSCALE:GREGORIAN
METHOD:PUBLISH
X-WR-CALNAME:USA Working Equitation
X-ORIGINAL-URL:https://usawe.org
X-WR-CALDESC:Events for USA Working Equitation
REFRESH-INTERVAL;VALUE=DURATION:PT1H
X-Robots-Tag:noindex
X-PUBLISHED-TTL:PT1H
BEGIN:VTIMEZONE
TZID:America/Los_Angeles
BEGIN:DAYLIGHT
TZOFFSETFROM:-0800
TZOFFSETTO:-0700
TZNAME:PDT
DTSTART:20230312T100000
END:DAYLIGHT
BEGIN:STANDARD
TZOFFSETFROM:-0700
TZOFFSETTO:-0800
TZNAME:PST
DTSTART:20231105T090000
END:STANDARD
BEGIN:DAYLIGHT
TZOFFSETFROM:-0800
TZOFFSETTO:-0700
TZNAME:PDT
DTSTART:20240310T100000
END:DAYLIGHT
BEGIN:STANDARD
TZOFFSETFROM:-0700
TZOFFSETTO:-0800
TZNAME:PST
DTSTART:20241103T090000
END:STANDARD
BEGIN:DAYLIGHT
TZOFFSETFROM:-0800
TZOFFSETTO:-0700
TZNAME:PDT
DTSTART:20250309T100000
END:DAYLIGHT
BEGIN:STANDARD
TZOFFSETFROM:-0700
TZOFFSETTO:-0800
TZNAME:PST
DTSTART:20251102T090000
END:STANDARD
END:VTIMEZONE
BEGIN:VEVENT
DTSTART;VALUE=DATE:20241012
DTEND;VALUE=DATE:20241013
DTSTAMP:20260423T225436
CREATED:20240211T150031Z
LAST-MODIFIED:20240211T150031Z
UID:10000796-1728691200-1728777599@usawe.org
SUMMARY:WA: WWVWE Playday
DESCRIPTION:A fun filled learning experience for all interested in WE. Each practice is different and generally includes EOH and dressage. Practice tests follow about an hour of free practice on the courts. Very supportive group. All levels welcome. \nPlease RSVP to the host.
URL:https://usawe.org/event/wa-wwvwe-playday-3/
LOCATION:6181 Cottonwood\, 6181 Cottonwood\, Walla Walla\, WA\, United States
CATEGORIES:All Playdays,Region 1
ATTACH;FMTTYPE=image/jpeg:https://usawe.org/wp-content/uploads/2024/02/WWVWE-Playday-2024.jpg
ORGANIZER;CN="Lisa Thompson":MAILTO:pegasust101@aol.com
END:VEVENT
BEGIN:VEVENT
DTSTART;TZID=America/Los_Angeles:20241026T080000
DTEND;TZID=America/Los_Angeles:20241026T110000
DTSTAMP:20260423T225436
CREATED:20231221T052327Z
LAST-MODIFIED:20231221T052327Z
UID:10000728-1729929600-1729940400@usawe.org
SUMMARY:IL: WE Playday!
DESCRIPTION:Hosted by USAWE Affiliate Organization Fox Valley Saddle Association. Come join in the fun! \nApril 7\, 10 am – 1 pm\nMay 30\, 6 pm – 8 pm\nJuly 21\, 10 am – 1 pm\nSeptember 28\, 10 am – 1 pm\nOctober 26\, 10 am – 1 pm
URL:https://usawe.org/event/il-we-playday-13/
LOCATION:Fox Valley Saddle Association\, 44W300 Rohrsen Rd.\, Hampshire\, IL\, 60140\, United States
CATEGORIES:All Playdays,Region 5
ATTACH;FMTTYPE=image/jpeg:https://usawe.org/wp-content/uploads/2023/12/9788CD72-5142-4BF5-912B-1EA8BD0BA90C.jpeg
ORGANIZER;CN="Sandy Klinkey":MAILTO:sklinkey@gmail.com
END:VEVENT
END:VCALENDAR