BEGIN:VCALENDAR
VERSION:2.0
PRODID:-//USA Working Equitation - ECPv6.15.20//NONSGML v1.0//EN
CALSCALE:GREGORIAN
METHOD:PUBLISH
X-ORIGINAL-URL:https://usawe.org
X-WR-CALDESC:Events for USA Working Equitation
REFRESH-INTERVAL;VALUE=DURATION:PT1H
X-Robots-Tag:noindex
X-PUBLISHED-TTL:PT1H
BEGIN:VTIMEZONE
TZID:America/Los_Angeles
BEGIN:DAYLIGHT
TZOFFSETFROM:-0800
TZOFFSETTO:-0700
TZNAME:PDT
DTSTART:20250309T100000
END:DAYLIGHT
BEGIN:STANDARD
TZOFFSETFROM:-0700
TZOFFSETTO:-0800
TZNAME:PST
DTSTART:20251102T090000
END:STANDARD
BEGIN:DAYLIGHT
TZOFFSETFROM:-0800
TZOFFSETTO:-0700
TZNAME:PDT
DTSTART:20260308T100000
END:DAYLIGHT
BEGIN:STANDARD
TZOFFSETFROM:-0700
TZOFFSETTO:-0800
TZNAME:PST
DTSTART:20261101T090000
END:STANDARD
BEGIN:DAYLIGHT
TZOFFSETFROM:-0800
TZOFFSETTO:-0700
TZNAME:PDT
DTSTART:20270314T100000
END:DAYLIGHT
BEGIN:STANDARD
TZOFFSETFROM:-0700
TZOFFSETTO:-0800
TZNAME:PST
DTSTART:20271107T090000
END:STANDARD
END:VTIMEZONE
BEGIN:VEVENT
DTSTART;VALUE=DATE:20260501
DTEND;VALUE=DATE:20260504
DTSTAMP:20260424T132628
CREATED:20260317T043732Z
LAST-MODIFIED:20260317T043732Z
UID:10001429-1777593600-1777852799@usawe.org
SUMMARY:WA: (26-140) (26-141) Appleatchee Blossom WE Show #1 and #2
DESCRIPTION:Join us for two licensed WE shows at the beautiful Appleatchee Rider’s Association!
URL:https://usawe.org/event/wa-26-140-26-141-appleatchee-blossom-we-show-1-and-2/
LOCATION:Appleatchee Riders\, 1130 Circle Street\, Wenatchee\, 98801
CATEGORIES:Competitions (all),Region 1
ORGANIZER;CN="Katie Garrett":MAILTO:kegarrett88@yahoo.com
END:VEVENT
BEGIN:VEVENT
DTSTART;VALUE=DATE:20260502
DTEND;VALUE=DATE:20260503
DTSTAMP:20260424T132628
CREATED:20260122T181313Z
LAST-MODIFIED:20260122T181313Z
UID:10001381-1777680000-1777766399@usawe.org
SUMMARY:MT: (26-092)  Sleeping Willow Ranch May Show
DESCRIPTION:Join us for a USAWE-licensed competition at the beautiful Sleeping Willow Ranch! \nJudge: Jill Baron “r”
URL:https://usawe.org/event/mt-26-092-sleeping-willow-ranch-may-show/
LOCATION:Sleeping Willow Ranch\, 888. South Burnt Fork Rd\, Stevensville\, MT\, 59870\, United States
CATEGORIES:Competitions (all),Region 1
ORGANIZER;CN="Alyssa Briceland":MAILTO:swrcattle@gmail.com
END:VEVENT
BEGIN:VEVENT
DTSTART;VALUE=DATE:20260502
DTEND;VALUE=DATE:20260504
DTSTAMP:20260424T132628
CREATED:20251218T195127Z
LAST-MODIFIED:20251218T195127Z
UID:10001342-1777680000-1777852799@usawe.org
SUMMARY:CA: (26-036) (26-037) Wine Country Classic: The Working Equi-Derby 1 & 2
DESCRIPTION:Judge: TBD\nTD: TBD \nShow Managers: Amanda Latta and Jill Mahdessian
URL:https://usawe.org/event/ca-26-036-26-037-wine-country-classic-the-working-equi-derby-1-2/
LOCATION:OH
CATEGORIES:Competitions (all),Region 2
ORGANIZER;CN="Amanda Latta":MAILTO:winecountryclassichorseshow@gmail.com
END:VEVENT
BEGIN:VEVENT
DTSTART;VALUE=DATE:20260502
DTEND;VALUE=DATE:20260504
DTSTAMP:20260424T132628
CREATED:20251218T195414Z
LAST-MODIFIED:20251218T195414Z
UID:10001343-1777680000-1777852799@usawe.org
SUMMARY:SC: (26-077) South Eastern WE Buckle Series #1
DESCRIPTION:Judge: Polly Limond\, “S”\nTD: Lyndsey Moritz \nShow Manager: Jessica Contento
URL:https://usawe.org/event/sc-26-077-south-eastern-we-buckle-series-1/
LOCATION:Jumping Branch Farm\, Aiken\, SC\, United States
CATEGORIES:Competitions (all),Region 7
ORGANIZER;CN="Jessica Contento":MAILTO:JessicaLContento@Yahoo.com
END:VEVENT
END:VCALENDAR