BEGIN:VCALENDAR
VERSION:2.0
PRODID:-//USA Working Equitation - ECPv6.15.20//NONSGML v1.0//EN
CALSCALE:GREGORIAN
METHOD:PUBLISH
X-ORIGINAL-URL:https://usawe.org
X-WR-CALDESC:Events for USA Working Equitation
REFRESH-INTERVAL;VALUE=DURATION:PT1H
X-Robots-Tag:noindex
X-PUBLISHED-TTL:PT1H
BEGIN:VTIMEZONE
TZID:America/Los_Angeles
BEGIN:DAYLIGHT
TZOFFSETFROM:-0800
TZOFFSETTO:-0700
TZNAME:PDT
DTSTART:20220313T100000
END:DAYLIGHT
BEGIN:STANDARD
TZOFFSETFROM:-0700
TZOFFSETTO:-0800
TZNAME:PST
DTSTART:20221106T090000
END:STANDARD
BEGIN:DAYLIGHT
TZOFFSETFROM:-0800
TZOFFSETTO:-0700
TZNAME:PDT
DTSTART:20230312T100000
END:DAYLIGHT
BEGIN:STANDARD
TZOFFSETFROM:-0700
TZOFFSETTO:-0800
TZNAME:PST
DTSTART:20231105T090000
END:STANDARD
BEGIN:DAYLIGHT
TZOFFSETFROM:-0800
TZOFFSETTO:-0700
TZNAME:PDT
DTSTART:20240310T100000
END:DAYLIGHT
BEGIN:STANDARD
TZOFFSETFROM:-0700
TZOFFSETTO:-0800
TZNAME:PST
DTSTART:20241103T090000
END:STANDARD
END:VTIMEZONE
BEGIN:VEVENT
DTSTART;VALUE=DATE:20231004
DTEND;VALUE=DATE:20231009
DTSTAMP:20260423T173655
CREATED:20230115T122649Z
LAST-MODIFIED:20230612T220123Z
UID:10000485-1696377600-1696809599@usawe.org
SUMMARY:MT: (23-061) 2023 Western Zone Championship
DESCRIPTION:Zone Championship licensed show # 23-061 offering L1-L7 \nVisit usawe.org > Competitions > List of Licensed Competitions for license status\, performance levels offered\, show manager\, judge and technical delegate info.
URL:https://usawe.org/event/mt-23-061-2023-western-zone-championship/
LOCATION:Big Sky Horse Park\, 3500 North Avenue\, Missoula\, 59804\, United States
CATEGORIES:Competitions (all),Region 1
ORGANIZER;CN="Sheila Mealey":MAILTO:weunderthebigsky@gmail.com
END:VEVENT
BEGIN:VEVENT
DTSTART;VALUE=DATE:20231005
DTEND;VALUE=DATE:20231006
DTSTAMP:20260423T173655
CREATED:20230921T103309Z
LAST-MODIFIED:20230921T103309Z
UID:10000655-1696464000-1696550399@usawe.org
SUMMARY:MT: (23-139) WE Under the Big Sky
DESCRIPTION:Licensed Show (23-139) WE Under the Big Sky \nVisit usawe.org > Competitions > List of Licensed Competitions for license status\, performance levels offered\, show manager\, judge and technical delegate info.
URL:https://usawe.org/event/mt-23-139-we-under-the-big-sky/
LOCATION:Big Sky Horse Park\, 3500 North Avenue\, Missoula\, 59804\, United States
CATEGORIES:Competitions (all),Region 1
ORGANIZER;CN="Kathryn Maslanka":MAILTO:bshpdirector@gmail.com
END:VEVENT
END:VCALENDAR