BEGIN:VCALENDAR
VERSION:2.0
PRODID:-//USA Working Equitation - ECPv6.15.20//NONSGML v1.0//EN
CALSCALE:GREGORIAN
METHOD:PUBLISH
X-WR-CALNAME:USA Working Equitation
X-ORIGINAL-URL:https://usawe.org
X-WR-CALDESC:Events for USA Working Equitation
REFRESH-INTERVAL;VALUE=DURATION:PT1H
X-Robots-Tag:noindex
X-PUBLISHED-TTL:PT1H
BEGIN:VTIMEZONE
TZID:America/Los_Angeles
BEGIN:DAYLIGHT
TZOFFSETFROM:-0800
TZOFFSETTO:-0700
TZNAME:PDT
DTSTART:20250309T100000
END:DAYLIGHT
BEGIN:STANDARD
TZOFFSETFROM:-0700
TZOFFSETTO:-0800
TZNAME:PST
DTSTART:20251102T090000
END:STANDARD
BEGIN:DAYLIGHT
TZOFFSETFROM:-0800
TZOFFSETTO:-0700
TZNAME:PDT
DTSTART:20260308T100000
END:DAYLIGHT
BEGIN:STANDARD
TZOFFSETFROM:-0700
TZOFFSETTO:-0800
TZNAME:PST
DTSTART:20261101T090000
END:STANDARD
BEGIN:DAYLIGHT
TZOFFSETFROM:-0800
TZOFFSETTO:-0700
TZNAME:PDT
DTSTART:20270314T100000
END:DAYLIGHT
BEGIN:STANDARD
TZOFFSETFROM:-0700
TZOFFSETTO:-0800
TZNAME:PST
DTSTART:20271107T090000
END:STANDARD
END:VTIMEZONE
BEGIN:VEVENT
DTSTART;VALUE=DATE:20260503
DTEND;VALUE=DATE:20260504
DTSTAMP:20260424T085448
CREATED:20260113T004613Z
LAST-MODIFIED:20260113T004613Z
UID:10001378-1777766400-1777852799@usawe.org
SUMMARY:NY: Experiencing Obstacles in Working Equitation
DESCRIPTION:Cayuga Dressage and Combined Training\, now an official AO of USAWE\, has three events focusing on working equitation\, dated February 8\, March 8 and May 3\, all at CAzabu Farm in Erieville\, NY.  The Theme is “Experiencing Obstacles in Working Equitation
URL:https://usawe.org/event/ny-experiencing-obstacles-in-working-equitation-2/
LOCATION:CAzabu Farm\, Erieville\, NY\, United States
CATEGORIES:All Clinics,All Playdays,Region 6
ORGANIZER;CN="Cayuga Dressage and Combined Training":MAILTO:jml16@cornell.edu
END:VEVENT
BEGIN:VEVENT
DTSTART;VALUE=DATE:20260515
DTEND;VALUE=DATE:20260518
DTSTAMP:20260424T085448
CREATED:20251218T222440Z
LAST-MODIFIED:20251218T222440Z
UID:10001369-1778803200-1779062399@usawe.org
SUMMARY:IL: (26-023) (26-024) FVSA WE Clinic & Shows
DESCRIPTION:Join us for a welcoming clinic (with sections for brand-new-to-WE riders as well as experienced WE competitors) and two days of licensed competition at the beautiful Fox Valley Saddle Association! \nJudge: Sarah Pinney\, R\, California \nShow Manager: Julie Alonzo \nEnter online at: https://forms.gle/qbAe6MKs7DhTt7ScA
URL:https://usawe.org/event/il-26-023-26-024-fvsa-we-clinic-shows/
LOCATION:Fox Valley Saddle Association\, 44W300 Rohrsen Rd.\, Hampshire\, IL\, 60140\, United States
CATEGORIES:All Clinics,Competitions (all),Region 5
ORGANIZER;CN="Julie Alonzo":MAILTO:workingequitationoregon@gmail.com
END:VEVENT
BEGIN:VEVENT
DTSTART;VALUE=DATE:20260521
DTEND;VALUE=DATE:20260525
DTSTAMP:20260424T085448
CREATED:20251218T220838Z
LAST-MODIFIED:20251218T220838Z
UID:10001365-1779321600-1779667199@usawe.org
SUMMARY:OR: (26-009) (26-010) WE Oregon Clinic and May WE Shows #1\, #2
DESCRIPTION:Judges: Kim Roe\, R\, Washington and Tracey Erway\, “r”\, Oregon\nTD: Mary Duffy \nShow Manager: Julie Alonzo \nEnter online at: https://forms.gle/6UCFAaH77Jm1sar5A
URL:https://usawe.org/event/or-26-009-26-010-we-oregon-clinic-and-may-we-shows-1-2/
LOCATION:Oregon Horse Center\, 90751 Prairie Rd\, Eugene\, OR\, 97402\, United States
CATEGORIES:All Clinics,Competitions (all),Region 1
ORGANIZER;CN="Julie Alonzo":MAILTO:workingequitationoregon@gmail.com
END:VEVENT
BEGIN:VEVENT
DTSTART;VALUE=DATE:20260528
DTEND;VALUE=DATE:20260601
DTSTAMP:20260424T085448
CREATED:20251218T223125Z
LAST-MODIFIED:20251218T223125Z
UID:10001371-1779926400-1780271999@usawe.org
SUMMARY:OR: (26-019) (26-020) WE in Wine Country - May 2026
DESCRIPTION:Join us for a cattle handling clinic and two licensed WE shows at the beautiful WoW arena in Milton-Freewater\, Oregon (just a few miles south of Walla Walla\, WA) \nJudges Amy Star\, “R” and Cari Schwartz\, “R”;\nTD – Kim Pearson \nEnter online at: https://forms.gle/S3W7SJ13uHmujvk79
URL:https://usawe.org/event/or-26-019-26-020-we-in-wine-country-may-2026/
LOCATION:WoW Arena\, 85207 Telephone Pole Road\, Milton Freewater\, OR\, 97862\, United States
CATEGORIES:All Clinics,Competitions (all),Region 1
ORGANIZER;CN="Julie Alonzo":MAILTO:workingequitationoregon@gmail.com
END:VEVENT
BEGIN:VEVENT
DTSTART;VALUE=DATE:20260601
DTEND;VALUE=DATE:20260602
DTSTAMP:20260424T085448
CREATED:20260424T025001Z
LAST-MODIFIED:20260424T025001Z
UID:10001435-1780272000-1780358399@usawe.org
SUMMARY:NY: Clinic with "S" Judge Nicole Chastain
DESCRIPTION:Monday\, June 1st – Nicole Chastain – https://www.facebook.com/events/1860815231212847
URL:https://usawe.org/event/ny-clinic-with-s-judge-nicole-chastain/
LOCATION:IL
CATEGORIES:All Clinics,Region 6
END:VEVENT
BEGIN:VEVENT
DTSTART;VALUE=DATE:20260618
DTEND;VALUE=DATE:20260622
DTSTAMP:20260424T085448
CREATED:20250813T212200Z
LAST-MODIFIED:20250813T212200Z
UID:10001325-1781740800-1782086399@usawe.org
SUMMARY:CA: BAWE Moo
DESCRIPTION:3 day clinic\, including a day with cows\, followed by a schooling show! \n  \n  \n 
URL:https://usawe.org/event/ca-bawe-moo/
LOCATION:IL
CATEGORIES:All Clinics,All Schooling Shows,Region 2
ORGANIZER;CN="Ali Kermeen":MAILTO:alikermeen@gmail.com
END:VEVENT
BEGIN:VEVENT
DTSTART;VALUE=DATE:20260625
DTEND;VALUE=DATE:20260629
DTSTAMP:20260424T085448
CREATED:20251218T221049Z
LAST-MODIFIED:20251218T221049Z
UID:10001366-1782345600-1782691199@usawe.org
SUMMARY:OR: (26-011) (26-012) WE Oregon Clinic and June Shows #1\, #2
DESCRIPTION:Judges: Kim Roe\, R\, Washington and TBA\nTD: Laura Stutesman \nShow Managers: Julie Alonzo and Mike Thill \nEnter online at: https://forms.gle/Ej7YC4s7cvGv3Rsc9
URL:https://usawe.org/event/or-26-011-26-012-we-oregon-clinic-and-june-shows-1-2/
LOCATION:Oregon Horse Center\, 90751 Prairie Rd\, Eugene\, OR\, 97402\, United States
CATEGORIES:All Clinics,Competitions (all),Region 1
ORGANIZER;CN="Julie Alonzo":MAILTO:workingequitationoregon@gmail.com
END:VEVENT
BEGIN:VEVENT
DTSTART;VALUE=DATE:20260702
DTEND;VALUE=DATE:20260706
DTSTAMP:20260424T085448
CREATED:20251218T223432Z
LAST-MODIFIED:20251218T223432Z
UID:10001372-1782950400-1783295999@usawe.org
SUMMARY:OR: (26-021) (26-022) WE in Wine Country - July and WAWE International Competition
DESCRIPTION:USAWE Judges Sarah Pinney\, “R”; Nicole Chastain\, “S”;\nWAWE Judge: TBD \nTD – Kim Pearson \nEnter online at: https://forms.gle/oHD2PE44Qojw1dDU8
URL:https://usawe.org/event/or-26-021-26-022-we-in-wine-country-july-and-wawe-international-competition/
LOCATION:WoW Arena\, 85207 Telephone Pole Road\, Milton Freewater\, OR\, 97862\, United States
CATEGORIES:All Clinics,Competitions (all),Region 1
ORGANIZER;CN="Julie Alonzo":MAILTO:workingequitationoregon@gmail.com
END:VEVENT
BEGIN:VEVENT
DTSTART;VALUE=DATE:20260730
DTEND;VALUE=DATE:20260803
DTSTAMP:20260424T085448
CREATED:20251218T221338Z
LAST-MODIFIED:20251218T221338Z
UID:10001367-1785369600-1785715199@usawe.org
SUMMARY:OR: (26-013) (26-014) WE Oregon Clinic and August Show #1\, #2
DESCRIPTION:Judges: Cari Schwartz\, R\, Oregon and Tracey Erway\, “r”\, Oregon\nTD: Mary Duffy \nShow Manager: Julie Alonzo and Mike Thill \nEnter online at: https://forms.gle/VFFmXLDZbjEwdcNH9
URL:https://usawe.org/event/or-26-013-26-014-we-oregon-clinic-and-august-show-1-2/
LOCATION:Oregon Horse Center\, 90751 Prairie Rd\, Eugene\, OR\, 97402\, United States
CATEGORIES:All Clinics,Competitions (all),Region 1
ORGANIZER;CN="Julie Alonzo":MAILTO:workingequitationoregon@gmail.com
END:VEVENT
BEGIN:VEVENT
DTSTART;VALUE=DATE:20260802
DTEND;VALUE=DATE:20260803
DTSTAMP:20260424T085448
CREATED:20260424T025228Z
LAST-MODIFIED:20260424T025228Z
UID:10001436-1785628800-1785715199@usawe.org
SUMMARY:NY: Clinic with "S" Judge Polly Limond
DESCRIPTION:Sunday\, August 2nd – Polly Limond – https://www.facebook.com/events/2124999678302471
URL:https://usawe.org/event/ny-clinic-with-s-judge-polly-limond/
LOCATION:IL
CATEGORIES:All Clinics,Region 6
ORGANIZER;CN="Beth Harrison":MAILTO:NYSWorkingEq@gmail.com
END:VEVENT
BEGIN:VEVENT
DTSTART;VALUE=DATE:20260807
DTEND;VALUE=DATE:20260810
DTSTAMP:20260424T085448
CREATED:20251218T222711Z
LAST-MODIFIED:20251218T222711Z
UID:10001370-1786060800-1786319999@usawe.org
SUMMARY:IL: (26-025) (26-026) FVSA WE Clinic and Shows
DESCRIPTION:Join us for a one-day clinic (with sections for both new-to-WE riders and experienced WE competitors) followed by two days of licensed WE Competitions at the beautiful Fox Valley Saddle Association. \nEnter online at: https://forms.gle/fRw21Z9tE6iUGPic7
URL:https://usawe.org/event/il-26-025-26-026-fvsa-we-clinic-and-shows/
LOCATION:Fox Valley Saddle Association\, 44W300 Rohrsen Rd.\, Hampshire\, IL\, 60140\, United States
CATEGORIES:All Clinics,Competitions (all),Region 5
ORGANIZER;CN="Julie Alonzo":MAILTO:workingequitationoregon@gmail.com
END:VEVENT
END:VCALENDAR