BEGIN:VCALENDAR
VERSION:2.0
PRODID:-//USA Working Equitation - ECPv6.15.20//NONSGML v1.0//EN
CALSCALE:GREGORIAN
METHOD:PUBLISH
X-ORIGINAL-URL:https://usawe.org
X-WR-CALDESC:Events for USA Working Equitation
REFRESH-INTERVAL;VALUE=DURATION:PT1H
X-Robots-Tag:noindex
X-PUBLISHED-TTL:PT1H
BEGIN:VTIMEZONE
TZID:America/Los_Angeles
BEGIN:DAYLIGHT
TZOFFSETFROM:-0800
TZOFFSETTO:-0700
TZNAME:PDT
DTSTART:20240310T100000
END:DAYLIGHT
BEGIN:STANDARD
TZOFFSETFROM:-0700
TZOFFSETTO:-0800
TZNAME:PST
DTSTART:20241103T090000
END:STANDARD
BEGIN:DAYLIGHT
TZOFFSETFROM:-0800
TZOFFSETTO:-0700
TZNAME:PDT
DTSTART:20250309T100000
END:DAYLIGHT
BEGIN:STANDARD
TZOFFSETFROM:-0700
TZOFFSETTO:-0800
TZNAME:PST
DTSTART:20251102T090000
END:STANDARD
BEGIN:DAYLIGHT
TZOFFSETFROM:-0800
TZOFFSETTO:-0700
TZNAME:PDT
DTSTART:20260308T100000
END:DAYLIGHT
BEGIN:STANDARD
TZOFFSETFROM:-0700
TZOFFSETTO:-0800
TZNAME:PST
DTSTART:20261101T090000
END:STANDARD
END:VTIMEZONE
BEGIN:VEVENT
DTSTART;VALUE=DATE:20250605
DTEND;VALUE=DATE:20250609
DTSTAMP:20260421T020423
CREATED:20241126T204045Z
LAST-MODIFIED:20250130T234838Z
UID:10000904-1749081600-1749427199@usawe.org
SUMMARY:OR: WE Oregon June WE Clinic & Shows 1-3
DESCRIPTION:June 5-6 (clinic) 7-8 (show) – Judges: Tracey Erway \nTo enter\, fill out the online entry at: \nhttps://forms.gle/phFNC8NNGFRmacA88
URL:https://usawe.org/event/or-we-oregon-june-we-clinic-shows-1-3/
LOCATION:Oregon Horse Center\, 90751 Prairie Rd\, Eugene\, OR\, 97402\, United States
CATEGORIES:All Clinics,Competitions (all),Region 1
ORGANIZER;CN="Julie Alonzo":MAILTO:workingequitationoregon@gmail.com
END:VEVENT
END:VCALENDAR