BEGIN:VCALENDAR
VERSION:2.0
PRODID:-//USA Working Equitation - ECPv6.15.20//NONSGML v1.0//EN
CALSCALE:GREGORIAN
METHOD:PUBLISH
X-WR-CALNAME:USA Working Equitation
X-ORIGINAL-URL:https://usawe.org
X-WR-CALDESC:Events for USA Working Equitation
REFRESH-INTERVAL;VALUE=DURATION:PT1H
X-Robots-Tag:noindex
X-PUBLISHED-TTL:PT1H
BEGIN:VTIMEZONE
TZID:America/Los_Angeles
BEGIN:DAYLIGHT
TZOFFSETFROM:-0800
TZOFFSETTO:-0700
TZNAME:PDT
DTSTART:20240310T100000
END:DAYLIGHT
BEGIN:STANDARD
TZOFFSETFROM:-0700
TZOFFSETTO:-0800
TZNAME:PST
DTSTART:20241103T090000
END:STANDARD
BEGIN:DAYLIGHT
TZOFFSETFROM:-0800
TZOFFSETTO:-0700
TZNAME:PDT
DTSTART:20250309T100000
END:DAYLIGHT
BEGIN:STANDARD
TZOFFSETFROM:-0700
TZOFFSETTO:-0800
TZNAME:PST
DTSTART:20251102T090000
END:STANDARD
BEGIN:DAYLIGHT
TZOFFSETFROM:-0800
TZOFFSETTO:-0700
TZNAME:PDT
DTSTART:20260308T100000
END:DAYLIGHT
BEGIN:STANDARD
TZOFFSETFROM:-0700
TZOFFSETTO:-0800
TZNAME:PST
DTSTART:20261101T090000
END:STANDARD
END:VTIMEZONE
BEGIN:VEVENT
DTSTART;VALUE=DATE:20250628
DTEND;VALUE=DATE:20250630
DTSTAMP:20260422T042843
CREATED:20241126T204211Z
LAST-MODIFIED:20250207T184648Z
UID:10000905-1751068800-1751241599@usawe.org
SUMMARY:ID: (25-028) (25-029) Team Idaho Summer Show #1 & #2
DESCRIPTION:USAWE licensed show in Nampa (Boise area) Idaho. \nJudge: Kim Roe\, “r” \nFor more information\, please contact: WEteamidaho@gmail.com \nTeam Idaho Summer Shows\nJune 28 (25-028)\nJune 29 (25-029)\nEmail: WeTeamIdaho@gmail.com\nPhone: 435-640-6755\nRegistration link: \n\n\nhttps://dunnriteranch.com/team-idaho-summer-2025-working-equitation-show/\n\n\n  \n 
URL:https://usawe.org/event/id-25-028-25-029-team-idaho-summer-show-1-2/
LOCATION:Dunn Rite Ranch\, Nampa\, ID\, United States
CATEGORIES:Competitions (all),Region 1
ORGANIZER;CN="Rachel Stout":MAILTO:Weteamidao@gmail.com
END:VEVENT
BEGIN:VEVENT
DTSTART;VALUE=DATE:20250628
DTEND;VALUE=DATE:20250630
DTSTAMP:20260422T042843
CREATED:20250223T232526Z
LAST-MODIFIED:20250223T232526Z
UID:10001225-1751068800-1751241599@usawe.org
SUMMARY:MT: WE Boot Camp #1
DESCRIPTION:Come learn from one of Montana’s most accomplished WE competitors\, trainers\, and instructors. USAWE Professional Instructor Trisha Reed!
URL:https://usawe.org/event/mt-we-boot-camp-1/
LOCATION:Run-A-Muck Ranch\, Wolf Creek\, United States
CATEGORIES:All Clinics,Region 1
ATTACH;FMTTYPE=image/jpeg:https://usawe.org/wp-content/uploads/2025/02/Screenshot_20250223_110928_Messenger.jpg
ORGANIZER;CN="Trisha Reed":MAILTO:torunamucksome@gmail.com
END:VEVENT
END:VCALENDAR