BEGIN:VCALENDAR
VERSION:2.0
PRODID:-//USA Working Equitation - ECPv6.15.20//NONSGML v1.0//EN
CALSCALE:GREGORIAN
METHOD:PUBLISH
X-WR-CALNAME:USA Working Equitation
X-ORIGINAL-URL:https://usawe.org
X-WR-CALDESC:Events for USA Working Equitation
REFRESH-INTERVAL;VALUE=DURATION:PT1H
X-Robots-Tag:noindex
X-PUBLISHED-TTL:PT1H
BEGIN:VTIMEZONE
TZID:America/Los_Angeles
BEGIN:DAYLIGHT
TZOFFSETFROM:-0800
TZOFFSETTO:-0700
TZNAME:PDT
DTSTART:20240310T100000
END:DAYLIGHT
BEGIN:STANDARD
TZOFFSETFROM:-0700
TZOFFSETTO:-0800
TZNAME:PST
DTSTART:20241103T090000
END:STANDARD
BEGIN:DAYLIGHT
TZOFFSETFROM:-0800
TZOFFSETTO:-0700
TZNAME:PDT
DTSTART:20250309T100000
END:DAYLIGHT
BEGIN:STANDARD
TZOFFSETFROM:-0700
TZOFFSETTO:-0800
TZNAME:PST
DTSTART:20251102T090000
END:STANDARD
BEGIN:DAYLIGHT
TZOFFSETFROM:-0800
TZOFFSETTO:-0700
TZNAME:PDT
DTSTART:20260308T100000
END:DAYLIGHT
BEGIN:STANDARD
TZOFFSETFROM:-0700
TZOFFSETTO:-0800
TZNAME:PST
DTSTART:20261101T090000
END:STANDARD
END:VTIMEZONE
BEGIN:VEVENT
DTSTART;VALUE=DATE:20250410
DTEND;VALUE=DATE:20250414
DTSTAMP:20260420T054147
CREATED:20241121T031042Z
LAST-MODIFIED:20250207T140539Z
UID:10000887-1744322400-1744581599@usawe.org
SUMMARY:WI: Midwest Horse Fair ~ Working Equitation Challenge
DESCRIPTION:Midwest Horse Fair Working Equitation Challenge\nFriday\, Saturday and Sunday\, April 11-13\, 2025\nWith USAWE Judge Doreen Atkinson\nTop USAWE competitors display timeless versatility and precise horsemanship skills as they compete in three trials! \nWatch as advanced riders from diverse equestrian backgrounds demonstrate their expertise in the exciting sport of Working Equitation; a new discipline that quickly growing in popularity across the US! \nMidwest Horse Fair is proud to present the 2025 Working Equitation Challenge with USAWE Judge Doreen Atkinson\, showcasing proven W.E. riders as they compete in three separate trials and are evaluated for classical precision\, traditional ranch versatility\, and the test of speed. The timeless tradition of ranch work across all nations\, ethnicity\, and breeds\, are honored in the sport of Working Equitation. \nDon’t miss this chance to witness the Top 10 selected riders as they compete to win $3\,500+ in Cash & Buckle Prizes!\nJoin us throughout the weekend to watch these top competitors demonstrate their skill in each of the USAWE Working Equitation trials! \nFriday\, April 11th – Dressage Test\nSaturday\, April 12th – Ease of Handling Trial\nSunday\, April 13th – Final Speed Trial followed by Awards Presentation \nCoordinated by USAWE Affiliate Organization\, The Sunshine Ranch \nTo apply for the 2025 Midwest Horse Fair Working Equitation Challenge\, contact Adrienne Dymesich at: Thesunriseranch@gmail.com \nApplicants must be members of USAWE and horse/riders have record of skill for consideration and acceptance in this USAWE Challenge. \nSpecial Thanks to \n \n 
URL:https://usawe.org/event/wi-midwest-horse-fair-working-equitation-challenge/
LOCATION:Alliant Energy Center\, 1919 Alliant Energy Center Way\, Madison\, WI\, United States
CATEGORIES:All Clinics,Competitions (all),Region 5
ATTACH;FMTTYPE=image/jpeg:https://usawe.org/wp-content/uploads/2024/11/WE-MWHF-April-2025-Adrienne-Dymesich.jpg
ORGANIZER;CN="Adrienne Dymesich":MAILTO:Thesunriseranch@gmail
END:VEVENT
BEGIN:VEVENT
DTSTART;VALUE=DATE:20250412
DTEND;VALUE=DATE:20250414
DTSTAMP:20260420T054147
CREATED:20241126T201204Z
LAST-MODIFIED:20241126T201224Z
UID:10000891-1744416000-1744588799@usawe.org
SUMMARY:KS: (25-032) (25-033) Rocking V Ranch WEKS #1 & #2
DESCRIPTION:Check the listing of Licensed Shows on the USAWE website for more information or contact show manager Kate Fowler.
URL:https://usawe.org/event/ks-25-032-25-033-rocking-v-ranch-weks-1-2/
LOCATION:Rocking V Ranch\, Topeka\, KS\, United States
CATEGORIES:Competitions (all),Region 3
ORGANIZER;CN="Kate Fowler":MAILTO:LV2JUMPtoo@aol.com
END:VEVENT
BEGIN:VEVENT
DTSTART;VALUE=DATE:20250412
DTEND;VALUE=DATE:20250414
DTSTAMP:20260420T054147
CREATED:20241126T201448Z
LAST-MODIFIED:20250106T181412Z
UID:10000892-1744416000-1744588799@usawe.org
SUMMARY:OR: (25-053) (25-036) WE in Wine Country - April Show #1 & #2
DESCRIPTION:Come join us for a fantastic weekend show\, complete with cattle handling clinics on Thursday and Friday and a Cattle Trial on Sunday! \nEnter online at: https://forms.gle/mdY3zwDPcgoX7Ji66\nThis Working Equitation competition is licensed by USA Working Equitation and will take place at the beautiful WW facility in Milton-Freewater\, Oregon (just south of Walla Walla\, WA)\, the heart of eastern Oregon/Washington’s Wine Country. In addition\, we’ll be offering a cattle clinic on Friday before the show. This is a great opportunity to learn more about working with cattle in a low-stress\, supportive environment. \nThe first 12 people who register and pay in full will have the option of competing in TWO competitions over the weeekend. After that\, opportunity to compete in both shows will depend on availability / time. \n\n\nAll competing riders must be members of USAWE\, and all competing horses must have a horse recording number issued by USAWE to participate. Those participating as schooling rides only do not need to be members/have horse recording numbers. \nEntry Fee: $250 for one show; $150 additional to add a second show (if spots are available); $75 per spot in the Cattle Clinic (available both Thursday and Friday)\, $50 for Cattle Trial on Sunday\nStabling: $25 per day \n\nBedding: $15 per bag (or wheelbarrow\, if the facility opts to provide bulk bedding)\n\nStall Cleaning Deposit: $75 – will be refunded within one week after the competition provided you strip your stall completely prior to departure. \nCamping is available on site for $40/night with electric; $25 dry camping. \nJudges: \n\nCari Schwartz\, R\, OR\nTracey Erway\, r\, OR\nIMPORTANT NOTE:\nRefunds (less a $75 processing fee) are only possible for illness (horse or human) with medical verification.
URL:https://usawe.org/event/or-25-035-25-036-we-in-wine-country-april-show-1-2/
LOCATION:W0W Arena\, 85207 Telephone Pole Road\, Milton-Freewater\, OR\, 97862\, United States
CATEGORIES:Competitions (all),Region 1
ORGANIZER;CN="Julie Alonzo":MAILTO:workingequitationoregon@gmail.com
END:VEVENT
END:VCALENDAR