BEGIN:VCALENDAR
VERSION:2.0
PRODID:-//USA Working Equitation - ECPv6.15.20//NONSGML v1.0//EN
CALSCALE:GREGORIAN
METHOD:PUBLISH
X-ORIGINAL-URL:https://usawe.org
X-WR-CALDESC:Events for USA Working Equitation
REFRESH-INTERVAL;VALUE=DURATION:PT1H
X-Robots-Tag:noindex
X-PUBLISHED-TTL:PT1H
BEGIN:VTIMEZONE
TZID:America/Los_Angeles
BEGIN:DAYLIGHT
TZOFFSETFROM:-0800
TZOFFSETTO:-0700
TZNAME:PDT
DTSTART:20230312T100000
END:DAYLIGHT
BEGIN:STANDARD
TZOFFSETFROM:-0700
TZOFFSETTO:-0800
TZNAME:PST
DTSTART:20231105T090000
END:STANDARD
BEGIN:DAYLIGHT
TZOFFSETFROM:-0800
TZOFFSETTO:-0700
TZNAME:PDT
DTSTART:20240310T100000
END:DAYLIGHT
BEGIN:STANDARD
TZOFFSETFROM:-0700
TZOFFSETTO:-0800
TZNAME:PST
DTSTART:20241103T090000
END:STANDARD
BEGIN:DAYLIGHT
TZOFFSETFROM:-0800
TZOFFSETTO:-0700
TZNAME:PDT
DTSTART:20250309T100000
END:DAYLIGHT
BEGIN:STANDARD
TZOFFSETFROM:-0700
TZOFFSETTO:-0800
TZNAME:PST
DTSTART:20251102T090000
END:STANDARD
END:VTIMEZONE
BEGIN:VEVENT
DTSTART;VALUE=DATE:20240426
DTEND;VALUE=DATE:20240429
DTSTAMP:20260425T174027
CREATED:20240215T131043Z
LAST-MODIFIED:20240215T131043Z
UID:10000809-1714089600-1714348799@usawe.org
SUMMARY:NC: Stone Creek EC Working Equitation Clinic with Jody Fontanetta and Schooling Show
DESCRIPTION:Friday afternoon and all day Saturday – Clinic\nJoin our clinician\, Jody Fontanetta\, for a private or a small group lesson\, your choice\, focusing on how the principles of classical dressage apply to Working Equitation. If you are newer to WE\, Jody can help you understand how dressage fundamentals translate to riding obstacles in the Ease of Handling trial. If you’re already competing\, she can help fine tune your developed skills in an effort to increase your scores at your next show. Private lessons will be for a 30-minute duration\, a pair of teams will ride for an hour\, and three riders for 90 minutes. \nSunday – Show\nThe show will be conducted and judged in accordance with rules of USA Working Equitation\, with an allowance made for disqualifications. No rider will be disqualified for an error made on course but instead will be given a “zero” for that obstacle with an explanation provided of what was done to typically receive a DQ. Levels 1-4 will be offered and judged.
URL:https://usawe.org/event/nc-stone-creek-ec-working-equitation-clinic-with-jody-fontanetta-and-schooling-show/
LOCATION:Stone Creek Equestrian Center\, 2864 Dav Ave\, Morganton\, NC\, United States
CATEGORIES:All Clinics,All Schooling Shows,Region 7
ATTACH;FMTTYPE=image/jpeg:https://usawe.org/wp-content/uploads/2024/02/WENC-Clinic-3.23-24.2024.jpg
ORGANIZER;CN="Wendy Bradshaw":MAILTO:wendy@stonecreekec.com
END:VEVENT
END:VCALENDAR